View In:
ArcMap
Google Earth
ArcGIS JavaScript
ArcGIS.com Map
View Footprint In:
Google Earth
Service Description:
Name: raster/RASTR7
Description:
Extent:
XMin: 618886.804139011
YMin: 6323410.20244778
XMax: 619958.164097002
YMax: 6324480.38772476
Spatial Reference: 32637
Pixel Size X: 1.35787066919047
Pixel Size Y: 1.3563818466237
Band Count: 3
Pixel Type: U8
Min Pixel Size: 0
Maximum Pixel Size: 0
Copyright Text:
Service Data Type: esriImageServiceDataTypeRGB
Min Values: 0, 0, 0
Max Values: 255, 255, 255
Mean Values: 179.71359359765, 202.32364048763, 91.762322877461
Standard Deviation Values: 69.187133890711, 62.609215302609, 57.445587799427
Object ID Field:
Fields:
Supported Interfaces:
REST
SOAP
Supported Operations:
Export Image
Identify