View In:
ArcMap
Google Earth
ArcGIS JavaScript
ArcGIS.com Map
View Footprint In:
Google Earth
Service Description:
Name: raster/RASTR6
Description:
Extent:
XMin: 619885.145055723
YMin: 6323481.22073343
XMax: 620955.238083617
YMax: 6324551.31588569
Spatial Reference: 32637
Pixel Size X: 1.35798607600751
Pixel Size Y: 1.35626762009879
Band Count: 3
Pixel Type: U8
Min Pixel Size: 0
Maximum Pixel Size: 0
Copyright Text:
Service Data Type: esriImageServiceDataTypeRGB
Min Values: 0, 0, 0
Max Values: 255, 255, 255
Mean Values: 129.00726518822, 226.38982391127, 114.64445774063
Standard Deviation Values: 50.841329118481, 65.114989231495, 44.535704182606
Object ID Field:
Fields:
Supported Interfaces:
REST
SOAP
Supported Operations:
Export Image
Identify