View In:
ArcMap
Google Earth
ArcGIS JavaScript
ArcGIS.com Map
View Footprint In:
Google Earth
Service Description:
Name: raster/RASTR5
Description:
Extent:
XMin: 616821.085935761
YMin: 6324266.1567354
XMax: 617891.088023083
YMax: 6325334.98563054
Spatial Reference: 32637
Pixel Size X: 1.35787066919044
Pixel Size Y: 1.35638184662256
Band Count: 3
Pixel Type: U8
Min Pixel Size: 0
Maximum Pixel Size: 0
Copyright Text:
Service Data Type: esriImageServiceDataTypeRGB
Min Values: 0, 0, 0
Max Values: 255, 255, 255
Mean Values: 155.58139059239, 168.38151588549, 167.97255952228
Standard Deviation Values: 65.647152215421, 57.653792628948, 100.16308360573
Object ID Field:
Fields:
Supported Interfaces:
REST
SOAP
Supported Operations:
Export Image
Identify