View In:
ArcMap
Google Earth
ArcGIS JavaScript
ArcGIS.com Map
View Footprint In:
Google Earth
Service Description:
Name: raster/RASTR43
Description:
Extent:
XMin: 623235.666976911
YMin: 6318708.84106487
XMax: 624305.760004805
YMax: 6319778.93621713
Spatial Reference: 32637
Pixel Size X: 1.35798607600751
Pixel Size Y: 1.35626762009879
Band Count: 3
Pixel Type: U8
Min Pixel Size: 0
Maximum Pixel Size: 0
Copyright Text:
Service Data Type: esriImageServiceDataTypeRGB
Min Values: 0, 0, 0
Max Values: 255, 255, 255
Mean Values: 185.18080941628, 157.38847123841, 117.30236822296
Standard Deviation Values: 55.522027875915, 67.21964516275, 99.366710526905
Object ID Field:
Fields:
Supported Interfaces:
REST
SOAP
Supported Operations:
Export Image
Identify