View In:
ArcMap
Google Earth
ArcGIS JavaScript
ArcGIS.com Map
View Footprint In:
Google Earth
Service Description:
Name: raster/RASTR4
Description:
Extent:
XMin: 617818.159922376
YMin: 6324337.08489633
XMax: 618888.162009698
YMax: 6325405.91379147
Spatial Reference: 32637
Pixel Size X: 1.35787066919044
Pixel Size Y: 1.35638184662374
Band Count: 3
Pixel Type: U8
Min Pixel Size: 0
Maximum Pixel Size: 0
Copyright Text:
Service Data Type: esriImageServiceDataTypeRGB
Min Values: 0, 0, 0
Max Values: 255, 255, 255
Mean Values: 158.95122104409, 145.65113279136, 167.23272469015
Standard Deviation Values: 52.668369401493, 81.191517195944, 95.810813298275
Object ID Field:
Fields:
Supported Interfaces:
REST
SOAP
Supported Operations:
Export Image
Identify