View In:
ArcMap
Google Earth
ArcGIS JavaScript
ArcGIS.com Map
View Footprint In:
Google Earth
Service Description:
Name: raster/RASTR26
Description:
Extent:
XMin: 622095.452530255
YMin: 6320632.2678658
XMax: 623165.454617577
YMax: 6321701.09676094
Spatial Reference: 32637
Pixel Size X: 1.35787066919044
Pixel Size Y: 1.35638184662256
Band Count: 3
Pixel Type: U8
Min Pixel Size: 0
Maximum Pixel Size: 0
Copyright Text:
Service Data Type: esriImageServiceDataTypeRGB
Min Values: 0, 0, 0
Max Values: 255, 255, 255
Mean Values: 214.89314495349, 109.15561467701, 108.19782782344
Standard Deviation Values: 57.103724235259, 87.456981783406, 49.017961908549
Object ID Field:
Fields:
Supported Interfaces:
REST
SOAP
Supported Operations:
Export Image
Identify