View In:
ArcMap
Google Earth
ArcGIS JavaScript
ArcGIS.com Map
View Footprint In:
Google Earth
Service Description:
Name: raster/RASTR22
Description:
Extent:
XMin: 619030.035539624
YMin: 6321415.84748592
XMax: 620101.395497615
YMax: 6322486.0327629
Spatial Reference: 32637
Pixel Size X: 1.35787066919047
Pixel Size Y: 1.3563818466237
Band Count: 3
Pixel Type: U8
Min Pixel Size: 0
Maximum Pixel Size: 0
Copyright Text:
Service Data Type: esriImageServiceDataTypeRGB
Min Values: 0, 0, 0
Max Values: 255, 255, 255
Mean Values: 178.6810436917, 100.39576817489, 103.19697648754
Standard Deviation Values: 57.946718630804, 85.405291764743, 89.824911241856
Object ID Field:
Fields:
Supported Interfaces:
REST
SOAP
Supported Operations:
Export Image
Identify