View In:
ArcMap
Google Earth
ArcGIS JavaScript
ArcGIS.com Map
View Footprint In:
Google Earth
Service Description:
Name: raster/RASTR20
Description:
Extent:
XMin: 621025.450442951
YMin: 6321557.79393251
XMax: 622096.810400942
YMax: 6322627.97920949
Spatial Reference: 32637
Pixel Size X: 1.35787066919047
Pixel Size Y: 1.3563818466237
Band Count: 3
Pixel Type: U8
Min Pixel Size: 0
Maximum Pixel Size: 0
Copyright Text:
Service Data Type: esriImageServiceDataTypeRGB
Min Values: 0, 0, 0
Max Values: 255, 255, 255
Mean Values: 157.97388039922, 213.78556867961, 73.812068990444
Standard Deviation Values: 52.780138567499, 70.880848718227, 57.804990271442
Object ID Field:
Fields:
Supported Interfaces:
REST
SOAP
Supported Operations:
Export Image
Identify