View In:
ArcMap
Google Earth
ArcGIS JavaScript
ArcGIS.com Map
View Footprint In:
Google Earth
Service Description:
Name: raster/RASTR2
Description:
Extent:
XMin: 619813.574825702
YMin: 6324479.03134292
XMax: 620883.576913024
YMax: 6325547.86023806
Spatial Reference: 32637
Pixel Size X: 1.35787066919058
Pixel Size Y: 1.35638184662374
Band Count: 3
Pixel Type: U8
Min Pixel Size: 0
Maximum Pixel Size: 0
Copyright Text:
Service Data Type: esriImageServiceDataTypeRGB
Min Values: 0, 8, 0
Max Values: 190, 255, 182
Mean Values: 102.9913663712, 254.91317091396, 109.98231563555
Standard Deviation Values: 1.8888681787838, 3.6768083507318, 1.9614284200097
Object ID Field:
Fields:
Supported Interfaces:
REST
SOAP
Supported Operations:
Export Image
Identify