View In:
ArcMap
Google Earth
ArcGIS JavaScript
ArcGIS.com Map
View Footprint In:
Google Earth
Service Description:
Name: raster/RASTR19
Description:
Extent:
XMin: 622023.791359662
YMin: 6321628.81221817
XMax: 623093.884387556
YMax: 6322698.90737042
Spatial Reference: 32637
Pixel Size X: 1.35798607600751
Pixel Size Y: 1.35626762009879
Band Count: 3
Pixel Type: U8
Min Pixel Size: 0
Maximum Pixel Size: 0
Copyright Text:
Service Data Type: esriImageServiceDataTypeRGB
Min Values: 0, 0, 0
Max Values: 255, 255, 255
Mean Values: 186.9593040088, 184.0244590917, 68.853845386758
Standard Deviation Values: 60.961821228618, 84.081961897466, 48.877485189877
Object ID Field:
Fields:
Supported Interfaces:
REST
SOAP
Supported Operations:
Export Image
Identify