View In:
ArcMap
Google Earth
ArcGIS JavaScript
ArcGIS.com Map
View Footprint In:
Google Earth
Service Description:
Name: raster/RASTR17
Description:
Extent:
XMin: 616964.317336374
YMin: 6322271.80177355
XMax: 618034.319423696
YMax: 6323340.63066868
Spatial Reference: 32637
Pixel Size X: 1.35787066919044
Pixel Size Y: 1.35638184662256
Band Count: 3
Pixel Type: U8
Min Pixel Size: 0
Maximum Pixel Size: 0
Copyright Text:
Service Data Type: esriImageServiceDataTypeRGB
Min Values: 0, 0, 0
Max Values: 255, 255, 255
Mean Values: 161.7482252828, 166.83219581798, 76.693391030431
Standard Deviation Values: 64.813802496358, 76.680880386682, 88.327853022837
Object ID Field:
Fields:
Supported Interfaces:
REST
SOAP
Supported Operations:
Export Image
Identify