View In:
ArcMap
Google Earth
ArcGIS JavaScript
ArcGIS.com Map
View Footprint In:
Google Earth
Service Description:
Name: raster/RASTR15
Description:
Extent:
XMin: 618958.465309603
YMin: 6322413.65809541
XMax: 620029.734327023
YMax: 6323482.57711527
Spatial Reference: 32637
Pixel Size X: 1.35775540864328
Pixel Size Y: 1.35649621810618
Band Count: 3
Pixel Type: U8
Min Pixel Size: 0
Maximum Pixel Size: 0
Copyright Text:
Service Data Type: esriImageServiceDataTypeRGB
Min Values: 0, 0, 0
Max Values: 255, 255, 255
Mean Values: 204.0460712976, 135.73417163665, 94.051436953543
Standard Deviation Values: 54.432669323775, 87.291412869583, 74.216196900653
Object ID Field:
Fields:
Supported Interfaces:
REST
SOAP
Supported Operations:
Export Image
Identify