View In:
ArcMap
Google Earth
ArcGIS JavaScript
ArcGIS.com Map
View Footprint In:
Google Earth
Service Description:
Name: raster/RASTR13
Description:
Extent:
XMin: 620953.88021293
YMin: 6322555.604542
XMax: 622025.149230349
YMax: 6323624.52356186
Spatial Reference: 32637
Pixel Size X: 1.35775540864328
Pixel Size Y: 1.35649621810618
Band Count: 3
Pixel Type: U8
Min Pixel Size: 0
Maximum Pixel Size: 0
Copyright Text:
Service Data Type: esriImageServiceDataTypeRGB
Min Values: 0, 0, 0
Max Values: 255, 255, 255
Mean Values: 143.86302458294, 225.0021600947, 69.555610777634
Standard Deviation Values: 40.131929232078, 69.574057791356, 49.64187850747
Object ID Field:
Fields:
Supported Interfaces:
REST
SOAP
Supported Operations:
Export Image
Identify