View In:
ArcMap
Google Earth
ArcGIS JavaScript
ArcGIS.com Map
View Footprint In:
Google Earth
Service Description:
Name: raster/RASTR12
Description:
Extent:
XMin: 621952.221129642
YMin: 6322626.62282765
XMax: 623022.223216964
YMax: 6323695.45172279
Spatial Reference: 32637
Pixel Size X: 1.35787066919058
Pixel Size Y: 1.35638184662374
Band Count: 3
Pixel Type: U8
Min Pixel Size: 0
Maximum Pixel Size: 0
Copyright Text:
Service Data Type: esriImageServiceDataTypeRGB
Min Values: 0, 0, 0
Max Values: 255, 255, 255
Mean Values: 195.59627277178, 176.67690484166, 87.224388994821
Standard Deviation Values: 72.087637358076, 73.814462055674, 81.791252847655
Object ID Field:
Fields:
Supported Interfaces:
REST
SOAP
Supported Operations:
Export Image
Identify