View In:
ArcMap
Google Earth
ArcGIS JavaScript
ArcGIS.com Map
View Footprint In:
Google Earth
Service Description:
Name: raster/RASTR11
Description:
Extent:
XMin: 622949.295116256
YMin: 6322697.55098858
XMax: 624019.297203578
YMax: 6323766.37988372
Spatial Reference: 32637
Pixel Size X: 1.35787066919058
Pixel Size Y: 1.35638184662374
Band Count: 3
Pixel Type: U8
Min Pixel Size: 0
Maximum Pixel Size: 0
Copyright Text:
Service Data Type: esriImageServiceDataTypeRGB
Min Values: 0, 0, 0
Max Values: 255, 255, 212
Mean Values: 168.42005881368, 233.13609439821, 55.265217153238
Standard Deviation Values: 47.654963979265, 49.053273364021, 28.881946208351
Object ID Field:
Fields:
Supported Interfaces:
REST
SOAP
Supported Operations:
Export Image
Identify