View In:
ArcMap
Google Earth
ArcGIS JavaScript
ArcGIS.com Map
View Footprint In:
Google Earth
Service Description:
Name: raster/RASTR10
Description:
Extent:
XMin: 615894.31524907
YMin: 6323197.32784026
XMax: 616965.675207061
YMax: 6324267.51311724
Spatial Reference: 32637
Pixel Size X: 1.35787066919033
Pixel Size Y: 1.3563818466237
Band Count: 3
Pixel Type: U8
Min Pixel Size: 0
Maximum Pixel Size: 0
Copyright Text:
Service Data Type: esriImageServiceDataTypeRGB
Min Values: 0, 0, 0
Max Values: 255, 255, 255
Mean Values: 224.29179417241, 179.36423831485, 89.100084977053
Standard Deviation Values: 49.457539083772, 66.123559501521, 79.370709406374
Object ID Field:
Fields:
Supported Interfaces:
REST
SOAP
Supported Operations:
Export Image
Identify