View In:
ArcMap
Google Earth
ArcGIS JavaScript
ArcGIS.com Map
View Footprint In:
Google Earth
Service Description:
Name: raster/RASTR1
Description:
Extent:
XMin: 618743.66367897
YMin: 6325404.55740963
XMax: 619814.932696389
YMax: 6326473.4764295
Spatial Reference: 32637
Pixel Size X: 1.35775540864313
Pixel Size Y: 1.35649621810499
Band Count: 3
Pixel Type: U8
Min Pixel Size: 0
Maximum Pixel Size: 0
Copyright Text:
Service Data Type: esriImageServiceDataTypeRGB
Min Values: 81, 0, 8
Max Values: 255, 255, 255
Mean Values: 136.04451113985, 218.12607039689, 115.63381649971
Standard Deviation Values: 50.507563614282, 58.965665957355, 38.971372630689
Object ID Field:
Fields:
Supported Interfaces:
REST
SOAP
Supported Operations:
Export Image
Identify