View In:
ArcMap
Google Earth
ArcGIS JavaScript
ArcGIS.com Map
View Footprint In:
Google Earth
Service Description:
Name: raster/PZZ_IVANOVO_UTM37N
Description:
Extent:
XMin: 612655.917796834
YMin: 6311882.08204409
XMax: 629549.474717534
YMax: 6329059.19818616
Spatial Reference: 32637
Pixel Size X: 1.35975184487282
Pixel Size Y: 1.35455533018379
Band Count: 3
Pixel Type: U8
Min Pixel Size: 0
Maximum Pixel Size: 0
Copyright Text:
Service Data Type: esriImageServiceDataTypeRGB
Min Values:
Max Values:
Mean Values:
Standard Deviation Values:
Object ID Field:
Fields:
Supported Interfaces:
REST
SOAP
WMS
Supported Operations:
Export Image
Identify